BEGIN:VCALENDAR
VERSION:2.0
PRODID:-//Det Grønne Museum - ECPv6.15.20//NONSGML v1.0//EN
CALSCALE:GREGORIAN
METHOD:PUBLISH
X-WR-CALNAME:Det Grønne Museum
X-ORIGINAL-URL:https://detgroennemuseum.dk
X-WR-CALDESC:Begivenheder for Det Grønne Museum
REFRESH-INTERVAL;VALUE=DURATION:PT1H
X-Robots-Tag:noindex
X-PUBLISHED-TTL:PT1H
BEGIN:VTIMEZONE
TZID:Europe/Copenhagen
BEGIN:DAYLIGHT
TZOFFSETFROM:+0100
TZOFFSETTO:+0200
TZNAME:CEST
DTSTART:20250330T010000
END:DAYLIGHT
BEGIN:STANDARD
TZOFFSETFROM:+0200
TZOFFSETTO:+0100
TZNAME:CET
DTSTART:20251026T010000
END:STANDARD
BEGIN:DAYLIGHT
TZOFFSETFROM:+0100
TZOFFSETTO:+0200
TZNAME:CEST
DTSTART:20260329T010000
END:DAYLIGHT
BEGIN:STANDARD
TZOFFSETFROM:+0200
TZOFFSETTO:+0100
TZNAME:CET
DTSTART:20261025T010000
END:STANDARD
BEGIN:DAYLIGHT
TZOFFSETFROM:+0100
TZOFFSETTO:+0200
TZNAME:CEST
DTSTART:20270328T010000
END:DAYLIGHT
BEGIN:STANDARD
TZOFFSETFROM:+0200
TZOFFSETTO:+0100
TZNAME:CET
DTSTART:20271031T010000
END:STANDARD
END:VTIMEZONE
BEGIN:VEVENT
DTSTART;TZID=Europe/Copenhagen:20260207T100000
DTEND;TZID=Europe/Copenhagen:20260215T160000
DTSTAMP:20260417T173609
CREATED:20260105T085719Z
LAST-MODIFIED:20260105T095151Z
UID:26544-1770458400-1771171200@detgroennemuseum.dk
SUMMARY:Vinterferie på Det Grønne Museum
DESCRIPTION:Vinterferie på Det Grønne Museum – indendørs oplevelser i skovens verden\nVinterferien på Det Grønne Museum byder på indendørs oplevelser for hele familien\, hvor natur\, historie og nysgerrighed går hånd i hånd. Når vintervejret kalder på aktiviteter under tag\, er museet et oplagt mål for en familieudflugt i vinterferien. \nI vinterferien foregår aktiviteterne primært i museets store indendørs udstilling STORT – mennesket og skoven. Her træder I ind i en stemningsfuld\, filmisk skov\, hvor fortællinger om skovens betydning for mennesker\, samfund og natur danner rammen om vinterferiens formidling og aktiviteter. \nVinterferien har hvert år skoven som omdrejningspunkt\, og aktiviteterne giver børn og voksne mulighed for at fordybe sig i skovens rolle – både historisk og i dag. Udstillingen skaber rum for refleksion\, dialog og fælles oplevelser\, hvor hele familien kan gå på opdagelse sammen. \nVinterferien på Det Grønne Museum er derfor oplagt for familier og bedsteforældre\, der leder efter indendørs aktiviteter i vinterferien\, hvor læring og oplevelse kombineres i rolige og sanselige rammer. \nLeder I efter oplevelser i vinterferien på Djursland\, hvor børnene er i centrum\, og hvor I kan få en meningsfuld fælles oplevelse – uanset vejret – er Det Grønne Museum et naturligt valg.
URL:https://detgroennemuseum.dk/begivenhed/vinterferie-paa-det-groenne-museum/
LOCATION:Det Grønne Museum\, Randersvej 4\, Auning\, 8963
CATEGORIES:Ferieaktiviteter
ATTACH;FMTTYPE=image/jpeg:https://detgroennemuseum.dk/wp-content/uploads/2023/12/traeklatring-Rasmus-vinterferie-2025-til-Hjemmeside.jpg
GEO:56.4375186;10.3422949
X-APPLE-STRUCTURED-LOCATION;VALUE=URI;X-ADDRESS=Det Grønne Museum Randersvej 4 Auning 8963;X-APPLE-RADIUS=500;X-TITLE=Randersvej 4:geo:10.3422949,56.4375186
END:VEVENT
END:VCALENDAR