BEGIN:VCALENDAR
VERSION:2.0
PRODID:-//Det Grønne Museum - ECPv6.15.20//NONSGML v1.0//EN
CALSCALE:GREGORIAN
METHOD:PUBLISH
X-WR-CALNAME:Det Grønne Museum
X-ORIGINAL-URL:https://detgroennemuseum.dk
X-WR-CALDESC:Begivenheder for Det Grønne Museum
REFRESH-INTERVAL;VALUE=DURATION:PT1H
X-Robots-Tag:noindex
X-PUBLISHED-TTL:PT1H
BEGIN:VTIMEZONE
TZID:Europe/Copenhagen
BEGIN:DAYLIGHT
TZOFFSETFROM:+0100
TZOFFSETTO:+0200
TZNAME:CEST
DTSTART:20250330T010000
END:DAYLIGHT
BEGIN:STANDARD
TZOFFSETFROM:+0200
TZOFFSETTO:+0100
TZNAME:CET
DTSTART:20251026T010000
END:STANDARD
BEGIN:DAYLIGHT
TZOFFSETFROM:+0100
TZOFFSETTO:+0200
TZNAME:CEST
DTSTART:20260329T010000
END:DAYLIGHT
BEGIN:STANDARD
TZOFFSETFROM:+0200
TZOFFSETTO:+0100
TZNAME:CET
DTSTART:20261025T010000
END:STANDARD
BEGIN:DAYLIGHT
TZOFFSETFROM:+0100
TZOFFSETTO:+0200
TZNAME:CEST
DTSTART:20270328T010000
END:DAYLIGHT
BEGIN:STANDARD
TZOFFSETFROM:+0200
TZOFFSETTO:+0100
TZNAME:CET
DTSTART:20271031T010000
END:STANDARD
END:VTIMEZONE
BEGIN:VEVENT
DTSTART;TZID=Europe/Copenhagen:20260422T110000
DTEND;TZID=Europe/Copenhagen:20260422T140000
DTSTAMP:20260422T011727
CREATED:20260407T081603Z
LAST-MODIFIED:20260407T081705Z
UID:27002-1776855600-1776866400@detgroennemuseum.dk
SUMMARY:Mød de frivillige i Traktor-værkstedet
DESCRIPTION:LEVENDE MUSEUM / Tilbagevendende begivenhed / Gratis når entréen er betalt \nMød de frivillige i Traktorværkstedet\, hvor de arbejder med mange typer af opgaver. For eksempel kommer maskinerne til eftersyn og reparation i Traktorværkstedet\, inden museets frivillige bruger dem i deres arbejder på de Historiske Marker. \nTraktorværkstedet er altid fyldt med liv\, lyd og delvist samlede maskiner og motorer\, og de frivillige står parat til at svare på spørgsmål\, forklare hvad de laver og fortælle historier fra et langt arbejdsliv med store maskiner – f.eks. som smede.
URL:https://detgroennemuseum.dk/begivenhed/moed-de-frivillige-i-traktor-vaerkstedet/2026-04-22/
LOCATION:Det Grønne Museum\, Randersvej 4\, Auning\, 8963
CATEGORIES:Levende museum
ATTACH;FMTTYPE=image/jpeg:https://detgroennemuseum.dk/wp-content/uploads/2019/09/traktorvaerkstedet-3.jpg
GEO:56.4375186;10.3422949
X-APPLE-STRUCTURED-LOCATION;VALUE=URI;X-ADDRESS=Det Grønne Museum Randersvej 4 Auning 8963;X-APPLE-RADIUS=500;X-TITLE=Randersvej 4:geo:10.3422949,56.4375186
END:VEVENT
END:VCALENDAR