BEGIN:VCALENDAR
VERSION:2.0
PRODID:-//Det Grønne Museum - ECPv6.15.20//NONSGML v1.0//EN
CALSCALE:GREGORIAN
METHOD:PUBLISH
X-ORIGINAL-URL:https://detgroennemuseum.dk
X-WR-CALDESC:Begivenheder for Det Grønne Museum
REFRESH-INTERVAL;VALUE=DURATION:PT1H
X-Robots-Tag:noindex
X-PUBLISHED-TTL:PT1H
BEGIN:VTIMEZONE
TZID:Europe/Copenhagen
BEGIN:DAYLIGHT
TZOFFSETFROM:+0100
TZOFFSETTO:+0200
TZNAME:CEST
DTSTART:20240331T010000
END:DAYLIGHT
BEGIN:STANDARD
TZOFFSETFROM:+0200
TZOFFSETTO:+0100
TZNAME:CET
DTSTART:20241027T010000
END:STANDARD
BEGIN:DAYLIGHT
TZOFFSETFROM:+0100
TZOFFSETTO:+0200
TZNAME:CEST
DTSTART:20250330T010000
END:DAYLIGHT
BEGIN:STANDARD
TZOFFSETFROM:+0200
TZOFFSETTO:+0100
TZNAME:CET
DTSTART:20251026T010000
END:STANDARD
BEGIN:DAYLIGHT
TZOFFSETFROM:+0100
TZOFFSETTO:+0200
TZNAME:CEST
DTSTART:20260329T010000
END:DAYLIGHT
BEGIN:STANDARD
TZOFFSETFROM:+0200
TZOFFSETTO:+0100
TZNAME:CET
DTSTART:20261025T010000
END:STANDARD
END:VTIMEZONE
BEGIN:VEVENT
DTSTART;TZID=Europe/Copenhagen:20250513T100000
DTEND;TZID=Europe/Copenhagen:20250513T140000
DTSTAMP:20260421T153735
CREATED:20250508T070414Z
LAST-MODIFIED:20250508T070414Z
UID:25604-1747130400-1747144800@detgroennemuseum.dk
SUMMARY:Mød de frivillige: Madlauget
DESCRIPTION:LEVENDE MUSEUM / tilbagevendende / Gratis når entréen er betalt \nMød Madlauget i Madens Hus\, hvor de arbejder med de gamle historiske madretter og med de gamle værktøjer som fandtes dengang. Afhængig af hvornår du besøger museet\, så vil det være forskellige retter og tidsepoker som museets frivillige i madlauget arbejder med og ud fra. \nMen uanset hvad de laver\, så har de altid tid til en hyggelig dialog omkring det at lave mad og omkring den historiske opskrift de arbejder med – og som regel vil der også være smagsprøver\, efterhånden som retterne bliver færdige.
URL:https://detgroennemuseum.dk/begivenhed/moed-madlauget/2025-05-13/
LOCATION:Det Grønne Museum\, Randersvej 4\, Auning\, 8963
CATEGORIES:Arrangementer,Levende museum
ATTACH;FMTTYPE=image/jpeg:https://detgroennemuseum.dk/wp-content/uploads/2023/07/madens-hus-og-madlaug-scaled.jpg
GEO:56.4375186;10.3422949
X-APPLE-STRUCTURED-LOCATION;VALUE=URI;X-ADDRESS=Det Grønne Museum Randersvej 4 Auning 8963;X-APPLE-RADIUS=500;X-TITLE=Randersvej 4:geo:10.3422949,56.4375186
END:VEVENT
END:VCALENDAR