BEGIN:VCALENDAR
VERSION:2.0
PRODID:-//Det Grønne Museum - ECPv6.15.20//NONSGML v1.0//EN
CALSCALE:GREGORIAN
METHOD:PUBLISH
X-WR-CALNAME:Det Grønne Museum
X-ORIGINAL-URL:https://detgroennemuseum.dk
X-WR-CALDESC:Begivenheder for Det Grønne Museum
REFRESH-INTERVAL;VALUE=DURATION:PT1H
X-Robots-Tag:noindex
X-PUBLISHED-TTL:PT1H
BEGIN:VTIMEZONE
TZID:Europe/Copenhagen
BEGIN:DAYLIGHT
TZOFFSETFROM:+0100
TZOFFSETTO:+0200
TZNAME:CEST
DTSTART:20240331T010000
END:DAYLIGHT
BEGIN:STANDARD
TZOFFSETFROM:+0200
TZOFFSETTO:+0100
TZNAME:CET
DTSTART:20241027T010000
END:STANDARD
BEGIN:DAYLIGHT
TZOFFSETFROM:+0100
TZOFFSETTO:+0200
TZNAME:CEST
DTSTART:20250330T010000
END:DAYLIGHT
BEGIN:STANDARD
TZOFFSETFROM:+0200
TZOFFSETTO:+0100
TZNAME:CET
DTSTART:20251026T010000
END:STANDARD
BEGIN:DAYLIGHT
TZOFFSETFROM:+0100
TZOFFSETTO:+0200
TZNAME:CEST
DTSTART:20260329T010000
END:DAYLIGHT
BEGIN:STANDARD
TZOFFSETFROM:+0200
TZOFFSETTO:+0100
TZNAME:CET
DTSTART:20261025T010000
END:STANDARD
END:VTIMEZONE
BEGIN:VEVENT
DTSTART;TZID=Europe/Copenhagen:20250228T180000
DTEND;TZID=Europe/Copenhagen:20250228T210000
DTSTAMP:20260421T105344
CREATED:20250207T064616Z
LAST-MODIFIED:20250207T064616Z
UID:25454-1740765600-1740776400@detgroennemuseum.dk
SUMMARY:Historiske middage: Spis som man gjorde på Badehotellerne
DESCRIPTION:Historiske middage: Spis som man gjorde på Badehotellerne\nMuseumsinspektør og madhistoriker Bettina Buhl fra Det Grønne Museum har været historisk madkonsulent på TV2’s populære serie “Badehotellet”. Bettina har udvalgt nogle spændende serveringer\, der har haft betydning for serien. Under hver servering vil der være fortællinger om Badehotellerne i Danmark\, arbejdet med at tilberede mad til “det bedre borgerskab”\, og om synet på det sunde liv ved og i havet. \nDer er udvalgt nogle temaer – hvert tema har forskellige fortællinger og serveringer\, der passer til det pågældende årti: \nBadehotellet: De glade 1920’ere og de urolige 1930’ere.\nFredag den 28. februar\, klokken 18.00 – 21.00 \nMenu: \nFaserede artiskokker\nKalvesteg vin blanc med pomsaute og fyldte tomater\nDiplomatbudding \n  \nBadehotellet: Den mørke besættelsestid og befrielsen (bemærk 80-årsdagen for befrielsen).\nSøndag den 4. maj\, klokken 18.00 – 21.00 \nMenu:\nIkke offentliggjort endnu \n  \n3-retters menu: 550 kr. \nTilmelding til Den Gamle Stald: \n 
URL:https://detgroennemuseum.dk/begivenhed/historiske-middage-spis-som-man-gjorde-paa-badehotellerne/2025-02-28/
LOCATION:Det Grønne Museum\, Randersvej 4\, Auning\, 8963
CATEGORIES:Arrangementer
GEO:56.4375186;10.3422949
X-APPLE-STRUCTURED-LOCATION;VALUE=URI;X-ADDRESS=Det Grønne Museum Randersvej 4 Auning 8963;X-APPLE-RADIUS=500;X-TITLE=Randersvej 4:geo:10.3422949,56.4375186
END:VEVENT
END:VCALENDAR