BEGIN:VCALENDAR
VERSION:2.0
PRODID:-//Det Grønne Museum - ECPv6.15.20//NONSGML v1.0//EN
CALSCALE:GREGORIAN
METHOD:PUBLISH
X-ORIGINAL-URL:https://detgroennemuseum.dk
X-WR-CALDESC:Begivenheder for Det Grønne Museum
REFRESH-INTERVAL;VALUE=DURATION:PT1H
X-Robots-Tag:noindex
X-PUBLISHED-TTL:PT1H
BEGIN:VTIMEZONE
TZID:Europe/Copenhagen
BEGIN:DAYLIGHT
TZOFFSETFROM:+0100
TZOFFSETTO:+0200
TZNAME:CEST
DTSTART:20240331T010000
END:DAYLIGHT
BEGIN:STANDARD
TZOFFSETFROM:+0200
TZOFFSETTO:+0100
TZNAME:CET
DTSTART:20241027T010000
END:STANDARD
BEGIN:DAYLIGHT
TZOFFSETFROM:+0100
TZOFFSETTO:+0200
TZNAME:CEST
DTSTART:20250330T010000
END:DAYLIGHT
BEGIN:STANDARD
TZOFFSETFROM:+0200
TZOFFSETTO:+0100
TZNAME:CET
DTSTART:20251026T010000
END:STANDARD
BEGIN:DAYLIGHT
TZOFFSETFROM:+0100
TZOFFSETTO:+0200
TZNAME:CEST
DTSTART:20260329T010000
END:DAYLIGHT
BEGIN:STANDARD
TZOFFSETFROM:+0200
TZOFFSETTO:+0100
TZNAME:CET
DTSTART:20261025T010000
END:STANDARD
END:VTIMEZONE
BEGIN:VEVENT
DTSTART;TZID=Europe/Copenhagen:20250304T190000
DTEND;TZID=Europe/Copenhagen:20250304T210000
DTSTAMP:20260418T003706
CREATED:20250206T113322Z
LAST-MODIFIED:20250206T115209Z
UID:25444-1741114800-1741122000@detgroennemuseum.dk
SUMMARY:Skovhistorisk dobbelt-foredrag med Bo Fritzbøger
DESCRIPTION:Glæd dig til en inspirerende aften\, når Det Grønne Museum i samarbejde med Skovhistorisk Selskab byder velkommen til et dobbelt-foredrag med skov- og landskabshistoriker\, lektor\, dr.phil. Bo Fritzbøger fra Københavns Universitet. På én og samme aften får du to spændende foredrag om den danske skovs udvikling: \n\nMüller\, Prytz og Oppermann – Det moderne gennembrud i dansk skovbrug ca. 1870-1920\nHør om tre markante personligheder\, der hver især formede skovbrugets udvikling i Danmark i en tid\, hvor nye idéer og teknikker var ved at slå igennem. Denne del af aftenen bygger på helt ny forskning\, som snart udgives.\nSkovrejsning i et historisk perspektiv\nDanmarks kommende skovrejsning på 250.000 hektar rejser mange spørgsmål. I dette foredrag kigger Bo Fritzbøger tilbage i historien og viser\, hvordan skovrejsning tidligere har formet det danske landskab – og hvad vi kan lære af det\, når vi kigger fremad.\n\nUndervejs byder vi på kaffe/te\, vand og kage\, så der er plads til både viden og hygge. Aftenens foredrag finder sted på Det Grønne Museum\, Randersvej 4\, 8963 Auning\, fra kl. 19 til ca. 21. \nBilletpris \n125 kr. \nVi glæder os til at byde dig velkommen til en lærerig og underholdende aften om fortidens og fremtidens skove!
URL:https://detgroennemuseum.dk/begivenhed/skovhistorisk-dobbelt-foredrag-med-bo-fritzboeger/
LOCATION:Det Grønne Museum\, Randersvej 4\, Auning\, 8963
CATEGORIES:Foredrag
ATTACH;FMTTYPE=image/jpeg:https://detgroennemuseum.dk/wp-content/uploads/2025/02/Skovbrugere-6-Koebenhavns-Universitetsbibliotek-Frederiksberg-skoensmaessigt-taget-o.-1880.-Paa-billedet-ser-man-de-tre-hovedpersoner.jpg
ORGANIZER;CN="Landbrugsmessen Gl. Estrup":MAILTO:messen@landboforening.dk
GEO:56.4375186;10.3422949
X-APPLE-STRUCTURED-LOCATION;VALUE=URI;X-ADDRESS=Det Grønne Museum Randersvej 4 Auning 8963;X-APPLE-RADIUS=500;X-TITLE=Randersvej 4:geo:10.3422949,56.4375186
END:VEVENT
END:VCALENDAR